BEGIN:VCALENDAR
VERSION:2.0
PRODID:-//Tukios.com/
BEGIN:VEVENT
UID:a7b64d4b-212b-4591-b6db-6660ca4883df@www.southjerseycremation.com
DTSTAMP:20260420T223613Z
DTSTART:20260530T140000Z
DTEND:20260530T150000Z
SUMMARY:Visitation
DESCRIPTION:
URL:https://www.southjerseycremation.com/obituaries/wilber-taylor
LOCATION:St Peter's Episcopal Church 1 Hartford Rd  Medford NJ 08055
GEO:39.885125;-74.8337564
END:VEVENT
END:VCALENDAR