BEGIN:VCALENDAR
VERSION:2.0
PRODID:-//Tukios.com/
BEGIN:VEVENT
UID:aec6e665-1e90-4540-b878-9dbe4d2d40cf@www.southjerseycremation.com
DTSTAMP:20260420T223630Z
DTSTART:20260530T150000Z
DTEND:20260530T160000Z
SUMMARY:Memorial Service
DESCRIPTION:
URL:https://www.southjerseycremation.com/obituaries/wilber-taylor
LOCATION: 1 Hartford Rd  Medford NJ 08055
GEO:39.885125;-74.8337564
END:VEVENT
END:VCALENDAR